BEGIN:VCALENDAR
VERSION:2.0
PRODID:-//ChamberMaster//Event Calendar 2.0//EN
METHOD:PUBLISH
X-PUBLISHED-TTL:P3D
REFRESH-INTERVAL:P3D
CALSCALE:GREGORIAN
BEGIN:VEVENT
DTSTART:20161211T200000Z
DTEND:20161211T230000Z
X-MICROSOFT-CDO-ALLDAYEVENT:FALSE
SUMMARY:2016 Simpsonville's Annual Christmas Parade ***Postponed to 12/11***
DESCRIPTION:Download the Parade application to enter your group or business.\n\n\n\nStart the holiday season off right with the annual Simpsonville Christmas Parade. This event is a community favorite\, and a great chance for the season's first sighting of Santa! Any community group or business may enter a float\, performance group\, or decorated vehicle.\n\n\n\nSponsorship opportunities are available for this year's Christmas Parade. Whether sponsoring with monetary support or volunteer time\, your support is greatly appreciated and is a way to gain business exposure with other local businesses and consumers. Please see the information here (page 3 of the pdf) about the various sponsorship levels and contact Jennifer Richardson if you have questions.\n\n \nSPECIAL NOTE REGARDING THE SIMPSONVILLE CHRISTMAS PARADE THIS SUNDAY!!!\n\n\nThe Annual Christmas Parade presented by Lowes of Simpsonville originally scheduled for Sunday\, December 4th will be postponed to Sunday\, December 11th at 3:00 pm. The weather forecast is a high of 47 degrees with 80% precipitation\, so we have made this decision for the safety and comfort of participants and spectators.\n\n \n\nThe lineup for participants will remain the same\, and we look forward to seeing all of the creative entries on December 11th.\n\n \n\nWith the additional week\, Chamber staff has decided to accept applications until December 9th at the Chamber office.
X-ALT-DESC;FMTTYPE=text/html:<span style="font-family: tahoma\;"><strong><span style="color:#0000FF\;">Download the&nbsp\;</span><a href="https://simpsonvilleareachamberofc.box.com/s/mhe2pegr17tzzxtpor4s9ubzq57wzbh6"><span style="color:#0000FF\;">Parade application</span></a><span style="color:#0000FF\;">&nbsp\;to enter your group or business.</span></strong><br />\n<br />\n<strong><span style="color:#008000\;">Start the holiday season off right with the annual Simpsonville Christmas Parade. This event is a community favorite\, and a great chance for the season&#39\;s first sighting of Santa! Any community group or business may enter a float\, performance group\, or decorated vehicle.<br />\n<br />\nSponsorship opportunities are available for this year&rsquo\;s Christmas Parade. Whether sponsoring with monetary support or volunteer time\, your support is greatly appreciated and is a way to gain business exposure with other local businesses and consumers. Please see the information </span><a href="https://simpsonvilleareachamberofc.box.com/s/mhe2pegr17tzzxtpor4s9ubzq57wzbh6"><span style="color:#008000\;">here</span></a><span style="color:#008000\;">&nbsp\;(page 3 of the pdf) about the various sponsorship levels and contact Jennifer Richardson if you have questions.</span></strong></span><br />\n&nbsp\;\n<div align="center" style="font-family: Arial\; font-weight: bold\; color: rgb(255\, 0\, 0)\; font-size: 16pt\; text-align: center\;">SPECIAL NOTE REGARDING THE SIMPSONVILLE CHRISTMAS PARADE THIS SUNDAY!!!</div>\n\n<div style="font-family: Arial\; font-weight: bold\; color: rgb(255\, 0\, 0)\; font-size: 11pt\;">\n<p style="margin: 0px 0px 6px\; font-family: 'San Francisco'\, -apple-system\, BlinkMacSystemFont\, '.SFNSText-Regular'\, sans-serif\; color: rgb(29\, 33\, 41)\; font-size: 14px\; letter-spacing: -0.23999999463558197px\;"><span style="color:#FF0000\;">The Annual Christmas Parade presented by Lowes of Simpsonville originally scheduled for Sunday\, December 4th will be postponed to Sunday\, December 11th at 3:00 pm. The weather forecast is a high of 47 degrees with 80% precipitation\, so we have made this decision for the safety and comfort of participants and spectators.</span><br />\n&nbsp\;</p>\n\n<p style="margin: 6px 0px\; font-family: 'San Francisco'\, -apple-system\, BlinkMacSystemFont\, '.SFNSText-Regular'\, sans-serif\; color: rgb(29\, 33\, 41)\; font-size: 14px\; letter-spacing: -0.23999999463558197px\;"><span style="color:#FF0000\;">The lineup for participants will remain the same\, and we look forward to seeing all of the creative entries on December 11th.</span><br />\n&nbsp\;</p>\n\n<p style="margin: 6px 0px 0px\; display: inline\; font-family: 'San Francisco'\, -apple-system\, BlinkMacSystemFont\, '.SFNSText-Regular'\, sans-serif\; color: rgb(29\, 33\, 41)\; font-size: 14px\; letter-spacing: -0.23999999463558197px\;"><span style="color:#FF0000\;">With the additional week\, Chamber staff has decided to accept applications until December 9th at the Chamber office.&nbsp\;</span></p>\n</div>\n
LOCATION:Main Street\, Simpsonville
UID:e.652.48063
SEQUENCE:3
DTSTAMP:20260420T025202Z
URL:https://members.simpsonvillechamber.com/events/details/2016-simpsonville-s-annual-christmas-parade-postponed-to-12-11-48063
END:VEVENT

END:VCALENDAR
