BEGIN:VCALENDAR
VERSION:2.0
PRODID:-//ChamberMaster//Event Calendar 2.0//EN
METHOD:PUBLISH
X-PUBLISHED-TTL:P3D
REFRESH-INTERVAL:P3D
CALSCALE:GREGORIAN
BEGIN:VEVENT
DTSTART:20260413T160000Z
DTEND:20260413T230000Z
X-MICROSOFT-CDO-ALLDAYEVENT:FALSE
SUMMARY:2026 Golf Tournament Presented by Laurens Electric Cooperative\, Inc.
DESCRIPTION:The Simpsonville Area Chamber of Commerce will host its annual Golf Tournament Presented by Laurens Electric Cooperative\, Inc. on Monday\, April 13th at Fox Run Country Club. This tournament is a great opportunity for businesses in the community to showcase their products and services\, and a great way for the players and sponsors to network. Golfers are invited to stay after they finish playing for great food and drinks\, winner announcements\, and prize presentations. \n\n\n	The day begins at 12:00pm with lunch & registration\, with a shotgun start at 1:00pm. The tournament follows the Captain's Choice format. Representatives from local businesses are out on the holes with games\, contests\, and (of course) cold beverages! \n	Teams typically finish up by 5:00pm. The dinner portion of the day kicks off as the golfers finish on the course. Tournament winners are announced and raffle prize winners are called!\n\n\n\n\nSponsorship/Team application
X-ALT-DESC;FMTTYPE=text/html:<p><span style="font-size:14px\;">The Simpsonville Area Chamber of Commerce will host its annual Golf Tournament Presented by Laurens Electric Cooperative\, Inc. on Monday\, April 13th&nbsp\;at Fox Run Country&nbsp\;Club. This tournament is a great opportunity for businesses in the community to showcase their products and services\, and a great way for the players and sponsors to network. Golfers are invited to stay after they finish playing for great food and drinks\, winner announcements\, and prize presentations.&nbsp\;</span></p>\n\n<ul>\n	<li><span style="font-size:14px\;"><span style="font-family: arial\;">The&nbsp\;day begins at 12:00pm with lunch &amp\; registration\, with&nbsp\;a shotgun start at 1:00pm. The tournament follows the Captain&#39\;s Choice format. Representatives from local businesses are out on the holes with games\, contests\, and (of course) cold beverages! </span></span></li>\n	<li><span style="font-size:14px\;"><span style="font-family: arial\;">Teams typically finish up by 5:00pm. The dinner&nbsp\;portion of the day kicks off as the golfers finish on the course.&nbsp\;Tournament winners are announced and&nbsp\;raffle prize winners are called!</span></span></li>\n</ul>\n\n<p><br />\n<u><span style="font-size:16px\;"><strong><a href="https://chambermaster.blob.core.windows.net/userfiles/UserFiles/chambers/652/File/GolfTournamentTeamSponsorInfo20262.pdf"><span style="color:#008000\;">Sponsorship/Team application </span></a> </strong></span></u><br />\n<br />\n<br />\n&nbsp\;</p>\n
LOCATION:Fox Run Country Club 215 Club Dr. Simpsonville\, SC 29681
UID:e.652.58298
SEQUENCE:3
DTSTAMP:20260424T110825Z
URL:https://members.simpsonvillechamber.com/events/details/2026-golf-tournament-presented-by-laurens-electric-cooperative-inc-58298
END:VEVENT

END:VCALENDAR
