BEGIN:VCALENDAR
VERSION:2.0
PRODID:-//ChamberMaster//Event Calendar 2.0//EN
METHOD:PUBLISH
X-PUBLISHED-TTL:P3D
REFRESH-INTERVAL:P3D
CALSCALE:GREGORIAN
BEGIN:VEVENT
DTSTART:20221018T154500Z
DTEND:20221018T170000Z
X-MICROSOFT-CDO-ALLDAYEVENT:FALSE
SUMMARY:Ask Me Anything: Monthly Lunch & Learn Series
DESCRIPTION:Speaker: Brian Fannin\, Founder of Fannin Media\n\nTopic: Simple Social Media Solutions for Any Business\n\n \nThis month we'll learn tips\, tricks\, and practical wisdom to calm the stormy seas of social media and take off the pressure when it comes to promoting your business online.\n\n\nFannin Media is a local lock\, stock & barrel videography company in beautiful Simpsonville\, South Carolina that turns your views into customers and your moments into memories. Check out fanninmedia.com to view their work\, their packages and more!\n\n\n\n\n\n*Don't forget to check your membership tier benefits to see if you have a complimentary registration available!\n\n\n\n\n\n- - - - - - - - - - - - - - - - - - - - - - - - - - - - - - - - - - - - - - - - - - - - - - - - - - - - - - - -\n\nOur monthly Lunch & Learn series features an "Ask Me Anything" format\, allowing attendees an opportunity to engage in meaningful Q&A with leaders and experts across a wide range of relevant business topics.\n\n \nWe are delighted to cover 12 topics this year\, featuring speakers who will answer your questions about their area of expertise\, their business or industry\, and how their knowledge can help your own business be successful. Take a look through the calendar to see our exciting array of topics\, and be thinking of the questions you want to ask. We simply ask that all participant questions to be respectful and appropriate for the given topic.\n\n\n\nThe sessions will run in an in-person format in the Prisma Health Conference Room at the Simpsonville Chamber. Attendee registration includes lunch. Events will be facilitated by a moderator who will kick things off with introductions and help guide the discussion. Attendees have an opportunity to introduce themselves and their business to the group and network before and after the presentation.
X-ALT-DESC;FMTTYPE=text/html:<div><span style="font-size:16px\;"><span style="font-family:arial\;"><strong>Speaker: Brian Fannin\, Founder of <a href="https://members.simpsonvillechamber.com/list/member/fannin-media-6260" target="_blank">Fannin Media</a></strong><br />\n<span style="caret-color: rgb(0\, 0\, 0)\; color: rgb(0\, 0\, 0)\;"><strong>Topic:</strong> <strong>Simple Social Media Solutions for Any Business</strong></span></span></span><br />\n&nbsp\;\n<div style="caret-color: rgb(0\, 0\, 0)\; color: rgb(0\, 0\, 0)\; font-family: Helvetica\; font-size: 12px\;"><span style="font-size:16px\;"><span style="font-family:arial\;">This month we&#39\;ll learn tips\, tricks\, and practical wisdom to calm the stormy seas of social media and take off the pressure when it comes to promoting your business online.</span></span></div>\n<br />\n<span style="font-family:arial\;"><span style="font-size:16px\;">Fannin Media is a local lock\, stock &amp\; barrel videography company in beautiful Simpsonville\, South Carolina that turns your views into customers and your moments into memories. Check out <a href="http://www.fanninmedia.com" target="_blank">fanninmedia.com</a> to view their work\, their packages and more!</span><br />\n<br />\n<br />\n<em><span style="font-size:14px\;">*Don&#39\;t forget to check your membership tier benefits to see if you have a complimentary registration available!</span></em><br />\n<br />\n<br />\n- - - - - - - - - - - - - - - - - - - - - - - - - - - - - - - - - - - - - - - - - - - - - - - - - - - - - - - -<br style="caret-color: rgb(0\, 0\, 0)\; color: rgb(0\, 0\, 0)\;" />\n<span style="font-size:12px\;">Our monthly Lunch &amp\; Learn series features an &ldquo\;Ask Me Anything&rdquo\; format\, allowing attendees an opportunity to engage in meaningful Q&amp\;A with leaders and experts across a wide range of relevant business topics.</span></span><br />\n&nbsp\;\n<div><span style="font-family:arial\;"><span style="font-size:12px\;">We are delighted to cover 12 topics this year\, featuring speakers who will answer your questions about their area of expertise\, their business or industry\, and how their knowledge can help your own business be successful. Take a look through the calendar to see our exciting array of topics\, and be thinking of the questions you want to ask. We simply ask that all participant questions to be respectful and appropriate for the given topic.</span></span>\n\n<p><br />\n<span style="font-family:arial\;"><span style="font-size:12px\;">The sessions will run in an in-person format in the Prisma Health Conference Room at the Simpsonville Chamber. Attendee registration includes lunch. Events will be facilitated by a moderator who will kick things off with introductions and help guide the discussion.&nbsp\;Attendees have an opportunity to introduce themselves and their business to the group and network before and after the presentation.</span></span></p>\n</div>\n</div>\n
LOCATION:Simpsonville Area Chamber of Commerce Prisma Health Conference Room 105-A W. Curtis Street Simpsonville\, SC 29681
UID:e.652.56066
SEQUENCE:3
DTSTAMP:20260420T103333Z
URL:https://members.simpsonvillechamber.com/events/details/ask-me-anything-monthly-lunch-learn-series-56066
END:VEVENT

END:VCALENDAR
