BEGIN:VCALENDAR
VERSION:2.0
PRODID:-//ChamberMaster//Event Calendar 2.0//EN
METHOD:PUBLISH
X-PUBLISHED-TTL:P3D
REFRESH-INTERVAL:P3D
CALSCALE:GREGORIAN
BEGIN:VEVENT
DTSTART:20211016T140000Z
DTEND:20211016T180000Z
X-MICROSOFT-CDO-ALLDAYEVENT:FALSE
SUMMARY:Block Party @ The Cotton Mill presented by Elite Total Fitness
DESCRIPTION:A fun\, free day of premium health & wellness activities for ALL AGES!\n\nFrom active living to specialized training\, there is a resource for everyone.\n\n\n\nOur Block Party @ The Cotton Mill is a one-day event with the mission of promoting health and wellness to ALL ages of our community. Vendors and activities will represent many relevant industries including Health Care\, Wellness Product Companies\, Exercise\, Healthy Diet Guidelines\, CPR/First Aid\, and many more applicable resources. \n\n	Business vendors\n	Food vendors\n	Kids Zone activity center\n	Rock climbing wall\n	Yoga classes\n	DJ\n	Kids Axe Throwing\n	Free Child IDs\n	and more! \n\n\n\n\n\nClick here for Vendor & Sponsor application!\n\n\n\nQuestions about the event or being a vendor?\n\nBy phone: (864) 963-3781\n\nBy email: wferguson@simpsonvillechamber.com
X-ALT-DESC;FMTTYPE=text/html:<br />\n<span style="color:#000080\;"><strong><span style="font-family:helvetica\;">A fun\, free day of premium health &amp\; wellness activities for ALL AGES!<br />\nFrom active living to specialized training\, there is a resource for everyone.</span></strong></span><br />\n<br />\nOur <span style="color:#000080\;"><strong>Block Party @ The Cotton Mill</strong></span> is a one-day event with the mission of promoting health and wellness to ALL ages of our community. Vendors and activities will represent many relevant industries including Health Care\, Wellness Product Companies\, Exercise\, Healthy Diet Guidelines\, CPR/First Aid\, and many more applicable resources.&nbsp\;\n<ul style="margin-left: 40px\;">\n	<li>Business vendors</li>\n	<li>Food vendors</li>\n	<li>Kids Zone activity center</li>\n	<li>Rock climbing wall</li>\n	<li>Yoga classes</li>\n	<li>DJ</li>\n	<li>Kids Axe Throwing</li>\n	<li>Free Child IDs</li>\n	<li>and more!&nbsp\;</li>\n</ul>\n<br />\n<br />\n<u><strong><a href="https://simpsonvilleareachamberofc1.box.com/s/xhw7z5cpnfzrjg5eqs2trleljm2xp0qi" target="_blank"><span style="color:#000080\;">Click here for Vendor &amp\; Sponsor application!</span></a></strong></u><br />\n<br />\n<strong>Questions about the event or being a vendor?</strong><br />\nBy phone: (864) 963-3781<br />\nBy email: <a href="mailto:wferguson@simpsonvillechamber.com">wferguson@simpsonvillechamber.com</a><br />\n&nbsp\;
LOCATION:The Cotton Mill Parking Lot in front of Elite Total Fitness 300 South Street Simpsonville\, SC 29681
UID:e.652.56008
SEQUENCE:3
DTSTAMP:20260422T224333Z
URL:https://members.simpsonvillechamber.com/events/details/block-party-the-cotton-mill-presented-by-elite-total-fitness-56008
END:VEVENT

END:VCALENDAR
