BEGIN:VCALENDAR
VERSION:2.0
PRODID:-//ChamberMaster//Event Calendar 2.0//EN
METHOD:PUBLISH
X-PUBLISHED-TTL:P3D
REFRESH-INTERVAL:P3D
CALSCALE:GREGORIAN
BEGIN:VEVENT
DTSTART:20241010T123000Z
DTEND:20241010T140000Z
X-MICROSOFT-CDO-ALLDAYEVENT:FALSE
SUMMARY:Chamber Connects: Leads Group 1 (Postponed to 10/10)
DESCRIPTION:We facilitate a Leads Group each month to connect members for their mutual best interest. Our goal is not to merely sell to others in the room\, but to bring people together to support one another and bring opportunities for each other's businesses.\n\nReferrals\, industry tips and best practices can be shared. Group membership is industry specific to encourage collaboration - only one business/representative per industry will be represented. Attendance rules apply since seats are limited.\n\nTalk to Chamber staff about applying for a Leads Group.\n\n\n\n\n\n***This group is currently FULL.
X-ALT-DESC;FMTTYPE=text/html:<p><span style="font-size:14px\;"><span style="font-family:arial\;">We facilitate a Leads Group each month to connect members for their mutual best interest. Our goal is not to merely sell to others in the room\, but to bring people together to support one another and bring opportunities for each other&#39\;s businesses.</span></span></p>\n\n<p><span style="font-size:14px\;"><span style="font-family:arial\;">Referrals\, industry tips and best practices can be shared. Group membership is industry specific to encourage collaboration - only one business/representative per industry will be represented. Attendance rules apply since seats are limited.</span></span></p>\n\n<p><span style="font-size:14px\;"><span style="font-family:arial\;">Talk to Chamber staff about applying for a Leads Group.<br />\n<br />\n<br />\n***This group is currently FULL.</span></span></p>\n
LOCATION:Simpsonville Chamber Prisma Health Conference Rm
UID:e.652.57514
SEQUENCE:3
DTSTAMP:20260421T214641Z
URL:https://members.simpsonvillechamber.com/events/details/chamber-connects-leads-group-1-postponed-to-10-10-57514
END:VEVENT

END:VCALENDAR
