BEGIN:VCALENDAR
VERSION:2.0
PRODID:-//ChamberMaster//Event Calendar 2.0//EN
METHOD:PUBLISH
X-PUBLISHED-TTL:P3D
REFRESH-INTERVAL:P3D
CALSCALE:GREGORIAN
BEGIN:VEVENT
DTSTART:20200918T140000Z
DTEND:20200918T160000Z
X-MICROSOFT-CDO-ALLDAYEVENT:FALSE
SUMMARY:Friendly Friday with Chamber Ambassadors
DESCRIPTION:Ambassadors help make connections between the Chamber and the community. Chamber Ambassadors are recognized representatives who call upon new and prospective members to connect them with pertinent Chamber information\, their professional peers\, and their target markets. Ambassadors have a unique opportunity to bring attention to their own member firms\, while also enhancing the value proposition of the Simpsonville Area Chamber. This group is integral to the Chamber's success and are our ROCK STARS!\n\n\n\nAmbassadors meet each month for Chamber updates and member visits.
X-ALT-DESC;FMTTYPE=text/html:<p><span style="color:#000000\;"><span style="font-size:14px\;"><span style="font-family:arial\;">Ambassadors help make connections between the Chamber and the community. Chamber Ambassadors are recognized representatives who call upon new and prospective members to connect them with pertinent Chamber information\, their professional peers\, and their target markets. Ambassadors have a unique opportunity to bring attention to their own member firms\, while also enhancing the value proposition of the Simpsonville Area Chamber. This group is integral to the Chamber&#39\;s success and are our ROCK STARS!<br />\n<br />\nAmbassadors meet each month for Chamber updates and member visits.</span></span></span></p>\n
LOCATION:Chamber Office 100 W. Trade Street Simpsonville\, SC 29681
UID:e.652.55318
SEQUENCE:3
DTSTAMP:20260420T235057Z
URL:https://members.simpsonvillechamber.com/events/details/friendly-friday-with-chamber-ambassadors-55318
END:VEVENT

END:VCALENDAR
