BEGIN:VCALENDAR
VERSION:2.0
PRODID:-//ChamberMaster//Event Calendar 2.0//EN
METHOD:PUBLISH
X-PUBLISHED-TTL:P3D
REFRESH-INTERVAL:P3D
CALSCALE:GREGORIAN
BEGIN:VEVENT
DTSTART:20220527T140000Z
DTEND:20220527T143000Z
X-MICROSOFT-CDO-ALLDAYEVENT:FALSE
SUMMARY:Ribbon Cutting with Express Oil Change & Tire Engineers
DESCRIPTION:Join us for a Ribbon Cutting to celebrate the newest location of Express Oil Change & Tire Engineers on N.E. Main Street in Simpsonville!\n\n\n\nExpress Oil Change & Tire Engineers houses a service center equipped to perform a variety of mechanical services. Whether you need your tires rotated and balanced\, a brake inspection\, brake service\, air conditioning repair\, or scheduled maintenance\, we've got you covered. Our technicians are also qualified to provide expert service on timing belts\, belts/hoses\, alignment\, tires\, CV axles\, differentials\, batteries\, water pumps\, fuel pumps\, shocks/struts\, electronic ignition\, fuel injectors\, computer diagnostics\, and other general repairs. In addition\, we offer complete fleet customer care. The qualities of all of our services are guaranteed under our warranty\, which is our promise of our commitment to the care of your automobile.\n\nLearn more at expressoil.com.
X-ALT-DESC;FMTTYPE=text/html:<span style="font-size:12px\;"><span style="font-family:arial\;"><span style="font-size:20px\;"><strong>Join us for a Ribbon Cutting to celebrate the newest location of Express Oil Change &amp\; Tire Engineers on N.E. Main Street in Simpsonville!</strong></span><br />\n<br />\n<span style="font-size:16px\;">Express Oil Change &amp\; Tire Engineers houses a service center equipped to perform a variety of mechanical services. Whether you need your tires rotated and balanced\, a brake inspection\, brake service\, air conditioning repair\, or scheduled maintenance\, we&rsquo\;ve got you covered. Our technicians are also qualified to provide expert service on timing belts\, belts/hoses\, alignment\, tires\, CV axles\, differentials\, batteries\, water pumps\, fuel pumps\, shocks/struts\, electronic ignition\, fuel injectors\, computer diagnostics\, and other general repairs. In addition\, we offer complete fleet customer care. The qualities of all of our services are guaranteed under our warranty\, which is our promise of our commitment to the care of your automobile.<br />\nLearn more at <a href="https://www.expressoil.com/" target="_blank">expressoil.com</a>.&nbsp\;</span></span></span><br />\n&nbsp\;
LOCATION:934 N.E. Main Street Simpsonville\, SC 29681
UID:e.652.56540
SEQUENCE:3
DTSTAMP:20260420T103815Z
URL:https://members.simpsonvillechamber.com/events/details/ribbon-cutting-with-express-oil-change-tire-engineers-56540
END:VEVENT

END:VCALENDAR
