BEGIN:VCALENDAR
VERSION:2.0
PRODID:-//ChamberMaster//Event Calendar 2.0//EN
METHOD:PUBLISH
X-PUBLISHED-TTL:P3D
REFRESH-INTERVAL:P3D
CALSCALE:GREGORIAN
BEGIN:VEVENT
DTSTART:20220511T140000Z
DTEND:20220511T160000Z
X-MICROSOFT-CDO-ALLDAYEVENT:FALSE
SUMMARY:Ribbon Cutting with Simpsonville Presbyterian Church
DESCRIPTION:The Simpsonville Area Chamber of Commerce will join Simpsonville Presbyterian for a Ribbon Cutting Ceremony on Wednesday\, May 11th to commemorate the church's recent name change (previously Simpsonville First Presbyterian Church).
X-ALT-DESC;FMTTYPE=text/html:<span style="font-size:14px\;"><span style="font-family:arial\;">The Simpsonville Area Chamber of Commerce will join Simpsonville Presbyterian for a Ribbon Cutting Ceremony on Wednesday\, May 11th to commemorate the church&#39\;s recent name change (previously Simpsonville First Presbyterian Church).</span></span>
LOCATION:Simspsonville Presbyterian Church 510 E. Curtis Street\, Simpsonville SC
UID:e.652.56535
SEQUENCE:3
DTSTAMP:20260420T105030Z
URL:https://members.simpsonvillechamber.com/events/details/ribbon-cutting-with-simpsonville-presbyterian-church-56535
END:VEVENT

END:VCALENDAR
