BEGIN:VCALENDAR
VERSION:2.0
PRODID:-//ChamberMaster//Event Calendar 2.0//EN
METHOD:PUBLISH
X-PUBLISHED-TTL:P3D
REFRESH-INTERVAL:P3D
CALSCALE:GREGORIAN
BEGIN:VEVENT
DTSTART:20240913T220000Z
DTEND:20240914T020000Z
X-MICROSOFT-CDO-ALLDAYEVENT:FALSE
SUMMARY:Sippin' in Simpsonville Wine Tasting Presented by Weichert\, Realtors - Shaun & Shari Group
DESCRIPTION:Join us downtown on Friday\, September 13th for wine tastings\, retail vendors\, art displays\, live music\, and more!\n\n\n\nSippin' in Simpsonville's Fall Wine Tasting Presented by Weichert\, Realtors - Shaun & Shari Group is a wine tasting tour of Simpsonville's downtown shops and local businesses. Ticket holders will enjoy local and regional wines\, retail vendors and local art\, live music\, and Simpsonville's downtown atmosphere as they walk along the tasting route! This year's route will feature more than 25 businesses pouring 1oz. samples of local\, regional\, and unique wines.\n\n\n\nGuest Ticket Options & Prices\n\n\n\nRegular Tickets: $30 in advance (discount extended through 9/12)\, $45 day-of\n\nRegular Tickets include all tastings and a commemorative tasting glass.\n\n\n\nVIP Tickets: 2024 SOLD OUT!\n\nVIP Tickets include all tastings and the commemorative tasting glass\,\n\nPLUS early check-in options\, a bottle of your favorite wine to take home\, and a VIP gift.\n\nWeek-of pricing goes into effect at 6:00pm on 9/8.\n\n\n\nDesignated Drivers & Non-Drinking Guests: No Ticket Required\n\nDesignated drivers and non-drinking guests do not need to purchase a ticket. Tickets are only required for guests who wish to partake in the wine tasting. Guests who aren't interested in the tastings will still be able to enter the event\, enjoy live music\, food vendors and restaurants\, retail vendors\, and more.\n\n\n\n\n\nClick Here for the Vendor/Sponsor application \n\n \n\n\nVolunteer for Your Wine!\n\nVolunteers are needed to help make this Sippin' In Simpsonville the best one yet! Volunteers help with check-in\, supply distribution\, signage placement\, and set-up/break-down. Many of the shifts are only two hours long and tons of fun! Plus... Volunteers will receive a t-shirt and a regular guest ticket (if 21+) to use before or after their shift.Contact chamber staff if you have any questions about any of the responsibilities of each time slot as some may require heavy lifting or carrying supplies. Tennis shoes are recommended for day of event time slots. Please plan to arrive 15 minutes before your time slot begins to check-in with the volunteer coordinator at the chamber office. No children or pets allowed please. \n\nClick here to volunteer: https://signup.com/go/iwJgzDb\n\n\n\n\n\nEvent Ticket Cancellation Policy\n\nThis is a rain or shine event. Tickets and business hosting fees are non-refundable once purchased\, unless the event is canceled or rescheduled by the Simpsonville Area Chamber of Commerce. If you realize that you are not able to attend after you purchase your tickets\, you may transfer them to another guest. In the case of cancellation by the Chamber\, guests will be given the option to keep their tickets to use on the new date OR request a full or partial refund for their tickets. If that happens\, instructions for requesting the refund will be emailed to all guests and shared on social media.
X-ALT-DESC;FMTTYPE=text/html:<p><strong><span style="color:#660033\;">Join us downtown on Friday\, September 13th for wine tastings\, retail vendors\, art displays\, live music\, and more!</span></strong><br />\n<br />\n<strong>Sippin&#39\; in Simpsonville&#39\;s Fall Wine Tasting Presented by Weichert\, Realtors - Shaun &amp\; Shari Group</strong> is a wine tasting tour of Simpsonville&#39\;s downtown shops and local businesses. Ticket holders will enjoy local and regional wines\, retail vendors and local art\, live music\, and Simpsonville&#39\;s downtown atmosphere as they walk along the tasting route! This year&#39\;s route will feature more than 25 businesses pouring 1oz. samples of local\, regional\, and unique wines.<br />\n<br />\n<span style="color:#660033\;"><u><strong>Guest Ticket Options &amp\; Prices</strong></u></span><br />\n<br />\n<strong><span style="color:#660033\;">Regular Tickets: $30 in advance (discount extended through 9/12)\, $45 day-of</span></strong><br />\nRegular Tickets include all tastings and a commemorative tasting glass.<br />\n<br />\n<s><strong><span style="color:#660033\;">VIP Tickets: 2024 SOLD OUT!</span></strong><br />\nVIP Tickets include all tastings and the commemorative tasting glass\,<br />\nPLUS early check-in options\, a bottle of your favorite wine to take home\, and a VIP gift.<br />\n<em>Week-of pricing goes into effect at 6:00pm on 9/8.</em></s><br />\n<br />\n<span style="color:#660033\;"><strong>Designated Drivers &amp\;&nbsp\;Non-Drinking Guests:&nbsp\;No Ticket Required</strong></span><br />\nDesignated drivers and non-drinking guests do not need to purchase a ticket. Tickets are only required for guests who wish to partake in the wine tasting. Guests who aren&#39\;t interested in the tastings will still be able to enter the event\, enjoy live music\, food vendors and restaurants\, retail vendors\, and more.<br />\n<br />\n<br />\n<span style="font-size:18px\;"><u><strong><a href="https://chambermaster.blob.core.windows.net/userfiles/UserFiles/chambers/652/File/Sippin2024Wine-ParticipationApplication.pdf"><span style="color:#800000\;">Click Here for the Vendor/Sponsor application </span></a></strong></u></span></p>\n\n<p style="text-align: center\;">&nbsp\;</p>\n<br />\n<span style="color:#660033\;"><u><strong>Volunteer for Your Wine!</strong></u></span><br />\nVolunteers are needed to help make this Sippin&#39\; In Simpsonville the best one yet! Volunteers help with check-in\, supply distribution\, signage placement\, and set-up/break-down. Many of the shifts are only two hours long and tons of fun! <strong><span style="color:#660033\;">Plus... Volunteers will receive a t-shirt and a regular guest ticket (if 21+) to use before or after their shift.</span></strong>Contact chamber staff if you have any questions about any of the responsibilities of each time slot as some may require heavy lifting or carrying supplies. Tennis shoes are recommended for day of event time slots. Please plan to arrive 15 minutes before your time slot begins to check-in with the volunteer coordinator at the chamber office. No children or pets allowed please.<strong>&nbsp\;<br />\nClick here to volunteer:&nbsp\;<a href="https://signup.com/go/iwJgzDb">https://signup.com/go/iwJgzDb</a></strong>\n\n<p><br />\n<br />\n<strong><span style="color:#660033\;"><u>Event Ticket Cancellation Policy</u></span></strong><br />\nThis is a rain or shine event. Tickets and business hosting fees are non-refundable once purchased\, unless the event is canceled or rescheduled by the Simpsonville Area Chamber of Commerce. If you realize that you are not able to attend after you purchase your tickets\, you may transfer them to another guest. In the case of cancellation by the Chamber\, guests will be given the option to keep their tickets to use on the new date OR request a full or partial refund for their tickets. If that happens\, instructions for requesting the refund will be emailed to all guests and shared on social media.</p>\n
LOCATION:Downtown Simpsonville Check-in will be on W. Curtis Street
UID:e.652.57619
SEQUENCE:3
DTSTAMP:20260421T233341Z
URL:https://members.simpsonvillechamber.com/events/details/sippin-in-simpsonville-wine-tasting-presented-by-weichert-realtors-shaun-shari-group-57619
END:VEVENT

END:VCALENDAR
