BEGIN:VCALENDAR
VERSION:2.0
PRODID:-//ChamberMaster//Event Calendar 2.0//EN
METHOD:PUBLISH
X-PUBLISHED-TTL:P3D
REFRESH-INTERVAL:P3D
CALSCALE:GREGORIAN
BEGIN:VEVENT
DTSTART;VALUE=DATE:20260504
DTEND;VALUE=DATE:20260506
TRANSP:TRANSPARENT
X-MICROSOFT-CDO-ALLDAYEVENT:TRUE
SUMMARY:Small Business Summit Presented by Pinnacle Financial Partners
DESCRIPTION:To kick off 2026 National Small Business Week\, join Bank Director and Pinnacle Financial Partners for their inaugural Small Business Summit.  This two-day event   held May 4-5\, 2026   is designed to empower small business owners and founders with actionable insights and growth strategies for short- and long-term success. Featuring expert-led sessions\, unparalleled networking\, and practical tools to implement at your organization\, this Summit addresses the challenges and opportunities facing ALL small businesses today!\n\nFrom economic updates and financial balance sheet reviews to scaling strategies\, customer service excellence and succession planning\, the agenda is packed with value-driven content tailored specifically for business owners and entrepreneurs alike. Breakout sessions delve into critical topics like business structures\, leveraging technology and AI\, risk mitigation\, capital raising and building strong teams.\n\nWhether you're seeking to streamline operations\, prepare for the future or expand into new markets\, this event offers the resources and connections to support your journey. Don't miss this opportunity to collaborate with industry experts and ignite new ideas to take your business to the next level.\n\nFor more information\, please contact us at info@bankdirector.com or 615-777-8465.
X-ALT-DESC;FMTTYPE=text/html:<p style="box-sizing: border-box\; margin: 0px 0px min(0.82375rem + 0.69375vw\, 1.65625rem)\; padding: 0px\; border: 0px\; vertical-align: baseline\; font-family: &quot\;Helvetica Neue&quot\;\, Helvetica\, sans-serif\; font-size: 18.53125px\; line-height: 1.15\; caret-color: rgb(76\, 76\, 78)\; color: rgb(76\, 76\, 78)\;"><span style="font-size:14px\;"><span style="box-sizing: border-box\; margin: 0px\; padding: 0px\; border: 0px\; vertical-align: baseline\;">To kick off 2026 National Small Business Week\, join Bank Director and Pinnacle Financial Partners for their inaugural Small Business Summit.&nbsp\; This two-day event &ndash\; held May 4-5\, 2026 &ndash\; is designed to empower small business owners and founders with actionable insights and growth strategies for short- and long-term success.&nbsp\;Featuring expert-led sessions\, unparalleled networking\, and practical tools to implement at your organization\, this Summit addresses the challenges and opportunities facing ALL small businesses today!</span></span></p>\n\n<p style="box-sizing: border-box\; margin: 0px 0px min(0.82375rem + 0.69375vw\, 1.65625rem)\; padding: 0px\; border: 0px\; vertical-align: baseline\; font-family: &quot\;Helvetica Neue&quot\;\, Helvetica\, sans-serif\; font-size: 18.53125px\; line-height: 1.15\; caret-color: rgb(76\, 76\, 78)\; color: rgb(76\, 76\, 78)\;"><span style="font-size:14px\;"><span style="box-sizing: border-box\; margin: 0px\; padding: 0px\; border: 0px\; vertical-align: baseline\;">From economic updates and financial balance sheet reviews to scaling strategies\, customer service excellence and succession planning\, the agenda is packed with value-driven content tailored specifically for business owners and entrepreneurs alike. Breakout sessions delve into critical topics like business structures\, leveraging technology and AI\, risk mitigation\, capital raising and building strong teams.</span></span></p>\n\n<p style="box-sizing: border-box\; margin: 0px 0px min(0.82375rem + 0.69375vw\, 1.65625rem)\; padding: 0px\; border: 0px\; vertical-align: baseline\; font-family: &quot\;Helvetica Neue&quot\;\, Helvetica\, sans-serif\; font-size: 18.53125px\; line-height: 1.15\; caret-color: rgb(76\, 76\, 78)\; color: rgb(76\, 76\, 78)\;"><span style="font-size:14px\;"><span style="box-sizing: border-box\; margin: 0px\; padding: 0px\; border: 0px\; vertical-align: baseline\;">Whether you&rsquo\;re seeking to streamline operations\, prepare for the future or expand into new markets\, this event offers the resources and connections to support your journey.&nbsp\;Don&rsquo\;t miss this opportunity to collaborate with industry experts and ignite new ideas to take your business to the next level.</span></span></p>\n\n<p style="box-sizing: border-box\; margin: 0px\; padding: 0px\; border: 0px\; vertical-align: baseline\; font-family: &quot\;Helvetica Neue&quot\;\, Helvetica\, sans-serif\; font-size: 18.53125px\; line-height: 1.15\; caret-color: rgb(76\, 76\, 78)\; color: rgb(76\, 76\, 78)\;"><span style="font-size:14px\;">For more information\, please contact us at&nbsp\;<a href="mailto:info@bankdirector.com" style="box-sizing: border-box\; margin: 0px\; padding: 0px\; border: 0px\; vertical-align: baseline\; color: rgb(0\, 174\, 239)\; font-family: inherit\; font-size: inherit\; text-decoration: none\;">info@bankdirector.com</a>&nbsp\;or 615-777-8465.</span></p>\n
LOCATION:JW Marriott Nashville\, TN
UID:e.652.59225
SEQUENCE:3
DTSTAMP:20260423T094454Z
URL:https://members.simpsonvillechamber.com/events/details/small-business-summit-presented-by-pinnacle-financial-partners-59225
END:VEVENT

END:VCALENDAR
