BEGIN:VCALENDAR
VERSION:2.0
PRODID:-//ChamberMaster//Event Calendar 2.0//EN
METHOD:PUBLISH
X-PUBLISHED-TTL:P3D
REFRESH-INTERVAL:P3D
CALSCALE:GREGORIAN
BEGIN:VEVENT
DTSTART:20221103T220000Z
DTEND:20221103T230000Z
X-MICROSOFT-CDO-ALLDAYEVENT:FALSE
SUMMARY:Stop the Bleed: Free Class from Pelham Medical Center
DESCRIPTION:Minutes count! Someone who is injured and severely bleeding can bleed to death in as little as 3   5 minutes. \n\nInjuries result from a wide variety of causes\, including accidents or intentional harm. They can happen to any of us\, anywhere\, such as our home\, school\, church\, workplace or on the road. \n\nT. J. Mack\, trauma injury prevention and outreach coordinator with Spartanburg Regional\, will demonstrate the three quick skills that are necessary for you to assist in an emergency and possibly save someone's life before they bleed out. He will provide instruction and information and also check your skills as you practice the techniques you've learned. \n\nParticipants who successfully complete this course will receive a STOP THE BLEED course completion certificate. \n\nEvent Details: \n\nThursday\, November 3 6:00 pm - 7:00 pm \n\nGibbs Cancer Center & Research Institute - Pelham 2759 SC-14\n\nConference rooms A&B\, First floor\n\nGreer\, SC 29650 \n\nThis class is free\, but registration is required. Visit SpartanburgRegional.com/Pelham-Events
X-ALT-DESC;FMTTYPE=text/html:<div class="page" title="Page 1">\n<div class="section" style="background-color: rgb(100.000000%\, 100.000000%\, 100.000000%)">\n<div class="layoutArea">\n<div class="column">\n<p><span style="font-family:arial\;"><span style="font-size: 12pt\;">Minutes count! Someone who is injured and severely bleeding can bleed to death in as little as 3 &ndash\; 5 minutes. </span></span></p>\n\n<p><span style="font-family:arial\;"><span style="font-size: 12pt\;">Injuries result from a wide variety of causes\, including accidents or intentional harm. They can happen to any of us\, anywhere\, such as our home\, school\, church\, workplace or on the road. </span></span></p>\n\n<p><span style="font-family:arial\;"><span style="font-size: 12pt\;">T. J. Mack\, trauma injury prevention and outreach coordinator with Spartanburg Regional\, will demonstrate the three quick skills that are necessary for you to assist in an emergency and possibly save someone&rsquo\;s life before they bleed out. He will provide instruction and information and also check your skills as you practice the techniques you&rsquo\;ve learned. </span></span></p>\n\n<p><span style="font-family:arial\;"><span style="font-size: 12pt\;">Participants who successfully complete this course will receive a STOP THE BLEED course completion certificate. </span></span></p>\n\n<p><span style="font-family:arial\;"><span style="font-size: 14pt\; font-weight: 600\;">Event Details: </span></span></p>\n\n<p><span style="font-family:arial\;"><span style="font-size: 12pt\;">Thursday\, November 3 6:00 pm - 7:00 pm </span></span></p>\n\n<p><span style="font-family:arial\;"><span style="font-size: 12pt\;">Gibbs Cancer Center &amp\; Research Institute - Pelham 2759 SC-14<br />\nConference rooms A&amp\;B\, First floor<br />\nGreer\, SC 29650 </span></span></p>\n\n<p><span style="font-family:arial\;"><span style="font-size: 12pt\;">This class is free\, but registration is required. Visit SpartanburgRegional.com/Pelham-Events </span></span></p>\n</div>\n</div>\n</div>\n</div>\n
LOCATION:
UID:e.652.56647
SEQUENCE:3
DTSTAMP:20260422T032006Z
URL:https://members.simpsonvillechamber.com/events/details/stop-the-bleed-free-class-from-pelham-medical-center-56647
END:VEVENT

END:VCALENDAR
