BEGIN:VCALENDAR
VERSION:2.0
PRODID:-//ChamberMaster//Event Calendar 2.0//EN
METHOD:PUBLISH
X-PUBLISHED-TTL:P3D
REFRESH-INTERVAL:P3D
CALSCALE:GREGORIAN
BEGIN:VEVENT
DTSTART:20260505T123000Z
DTEND:20260505T140000Z
X-MICROSOFT-CDO-ALLDAYEVENT:FALSE
SUMMARY:Women's Impact Network (WIN) Presented by Primerica
DESCRIPTION:WIN is an exciting way to start the day with coffee\, networking with fellow women in business\, and giving back to the community. Each event will include a short presentation from our sponsor\, a spotlight/presentation from a local non-profit organization\, and time to network with other guests. \n\n\n\nIn May\, guests will hear from the Golden Strip Career Center. The Golden Strip Career Center offers students the opportunity to take courses with job-skill driven curricula. Students may earn certifications and experience authentic\, hands-on training in one of fifteen offered programs. Additionally\, they have the opportunity to pursue a technical career interest while earning high school credit and possibly dual credit (college credit).\n\n\n\nOur 2026 Women's Impact Network is presented by Primerica\, the largest provider of financial solutions for middle income families in North America. Through teaching wealth building principles that most of us didn't learn in school\, they empower hard working people to not barely retire at age 65\, but to retire well and on purpose at age 55-57 or even younger. Sound too good to be true? Other companies focus on products\, they focus on education with wisdom to make every dollar march to your specific life goals.  What if that is within your power? It could change everything!\n\n\n\n\n\nInterested in spotlighting a local charity?\n\nFeatured charities will be local non-profit organizations that serve constituents in Simpsonville and the Upstate. Requested donations from guests may range from items like coats/winter warmth items\, health/hygiene products\, school supplies\, etc. and should be directly relevant to the organization's mission.\n\n \n\nContact us at info@simpsonvillechamber.com for more information on attending or sponsoring.
X-ALT-DESC;FMTTYPE=text/html:<strong>WIN</strong> is an exciting way to start the day with coffee\, networking with fellow women in business\, and giving back to the community. Each event will include a short presentation from our sponsor\, a spotlight/presentation from a local non-profit organization\, and time to network with other guests.&nbsp\;<br />\n<br />\nIn May\, guests will hear from the <strong>Golden Strip Career Center</strong>. The Golden Strip Career Center offers students the opportunity to take courses with job-skill driven curricula. Students may earn certifications and experience authentic\, hands-on training in one of fifteen offered programs. Additionally\, they have the opportunity to pursue a technical career interest while earning high school credit and possibly dual credit (college credit).<br />\n<br />\nOur 2026 Women&#39\;s Impact Network is presented by <strong>Primerica</strong>\, the largest provider of financial solutions for middle income families in North America. Through teaching wealth building principles that most of us didn&#39\;t learn in school\, they empower hard working people to not barely retire at age 65\, but to retire well and on purpose at age 55-57 or even younger. Sound too good to be true? Other companies focus on products\, they focus on education with wisdom to make every dollar march to your specific life goals.&nbsp\;&nbsp\;What if that is within your power? It could change everything!<br />\n<br />\n<br />\n<strong>Interested in spotlighting a local charity?</strong><br />\nFeatured charities will be local non-profit organizations that serve constituents in Simpsonville and the Upstate. Requested donations from guests may range from items like coats/winter warmth items\, health/hygiene products\, school supplies\, etc. and should be directly relevant to the organization&#39\;s mission.<br />\n&nbsp\;<br />\nContact us at info@simpsonvillechamber.com for more information on attending or sponsoring.\n<div>&nbsp\;</div>\n
LOCATION:Simpsonville Area Chamber of Commerce 105A W. Curtis Street Simpsonville\, SC 29681
UID:e.652.58203
SEQUENCE:3
DTSTAMP:20260425T125129Z
URL:https://members.simpsonvillechamber.com/events/details/women-s-impact-network-win-template-05-05-2026-58203
END:VEVENT

END:VCALENDAR
